BEGIN:VCALENDAR
VERSION:2.0
PRODID:-//Traditional Learning Academy (TLA) Online - ECPv5.3.2.1//NONSGML v1.0//EN
CALSCALE:GREGORIAN
METHOD:PUBLISH
X-WR-CALNAME:Traditional Learning Academy (TLA) Online
X-ORIGINAL-URL:https://schoolathome.ca
X-WR-CALDESC:Events for Traditional Learning Academy (TLA) Online
BEGIN:VTIMEZONE
TZID:America/Vancouver
BEGIN:DAYLIGHT
TZOFFSETFROM:-0800
TZOFFSETTO:-0700
TZNAME:PDT
DTSTART:20230312T100000
END:DAYLIGHT
BEGIN:STANDARD
TZOFFSETFROM:-0700
TZOFFSETTO:-0800
TZNAME:PST
DTSTART:20231105T090000
END:STANDARD
END:VTIMEZONE
BEGIN:VEVENT
DTSTART;TZID=America/Vancouver:20231005T123000
DTEND;TZID=America/Vancouver:20231005T140000
DTSTAMP:20260424T003129
CREATED:20230918T153023Z
LAST-MODIFIED:20230918T164831Z
UID:7831-1696509000-1696514400@schoolathome.ca
SUMMARY:Van Dusen Gardens Field Trip K-5
DESCRIPTION:Seeds fly\, float\, hitchhike –even travel through the stomachs of birds – all in order to spread to new places and grow. Students explore the Garden in search of seeds with parachutes\, hooks or fleshy fruit surrounding them. Students will dissect seeds and make seed babies to take home.  \nSign-up deadline is Sept 28th.
URL:https://schoolathome.ca/event/van-dusen-gardens-field-trip-k-5/
CATEGORIES:Grades K-9,Field Trips
END:VEVENT
END:VCALENDAR