BEGIN:VCALENDAR
VERSION:2.0
PRODID:-//Traditional Learning Academy (TLA) Online - ECPv5.3.2.1//NONSGML v1.0//EN
CALSCALE:GREGORIAN
METHOD:PUBLISH
X-WR-CALNAME:Traditional Learning Academy (TLA) Online
X-ORIGINAL-URL:https://schoolathome.ca
X-WR-CALDESC:Events for Traditional Learning Academy (TLA) Online
BEGIN:VTIMEZONE
TZID:America/Los_Angeles
BEGIN:DAYLIGHT
TZOFFSETFROM:-0800
TZOFFSETTO:-0700
TZNAME:PDT
DTSTART:20190310T100000
END:DAYLIGHT
BEGIN:STANDARD
TZOFFSETFROM:-0700
TZOFFSETTO:-0800
TZNAME:PST
DTSTART:20191103T090000
END:STANDARD
END:VTIMEZONE
BEGIN:VEVENT
DTSTART;TZID=America/Los_Angeles:20190405T123000
DTEND;TZID=America/Los_Angeles:20190405T143000
DTSTAMP:20260423T094804
CREATED:20190121T133857Z
LAST-MODIFIED:20190401T225845Z
UID:2485-1554467400-1554474600@schoolathome.ca
SUMMARY:Meet the Masters *Start Date*
DESCRIPTION:Meet the Masters classes are step by step art classes that teach students art history and techniques and give students an opportunity to create an artistic work based on the works of a specific artist. Each class we will learn about one particular artist and his techniques. The artists we will likely learn about are Vincent Van Gogh\, Frederic Remington\, M.C. Escher and Jacob Lawrence. \nClasses will include: \n\nLearning about the artist (25 min)\nPractice on specific artistic technique (25 min)\nCreation of art piece (1 hour)\n\nDates: April 5th\, 12th\, 26th and May 3rd\nTime: 12:30-2:30pm\n\nMaximum number of participants: 20 \nRegistration is first come\, first serve and is open to both TLA and non-TLA students.\nWhen you register\, you are registering for all four classes. \nCost: $35 total for all four classes\nPlease pay the fee by April 5th with cash to Aili Patterson or e-transfer to sapatt@telus.net. \nLocation: Dawson Creek Alliance Church\, 9009 10th Street\, Dawson Creek \nAge range: 8 – 12 years old (older students may attend with the understanding that the instruction is geared towards younger students) \nPlease note: Students need to be able to sit and participate for this length of lesson and follow instructions well. \nPlease have children dress in older clothing in case any of the art supplies stain the clothing. \nRegistration will be open until March 1st.  \nPlease fill out this form for each participant.
URL:https://schoolathome.ca/event/meet-the-masters-start-date/
ATTACH;FMTTYPE=image/jpeg:https://schoolathome.ca/wp-content/uploads/2019/02/grad_hats-e1552951730116.jpg
END:VEVENT
BEGIN:VEVENT
DTSTART;TZID=America/Los_Angeles:20190405T190000
DTEND;TZID=America/Los_Angeles:20190405T220000
DTSTAMP:20260423T094804
CREATED:20190213T131612Z
LAST-MODIFIED:20190404T151327Z
UID:2530-1554490800-1554501600@schoolathome.ca
SUMMARY:Vancouver WhiteCaps vs. LA Galaxy
DESCRIPTION:Come with your friends and family and be a part of one of the best sporting atmospheres in Vancouver.   \nWhat: The Vancouver WhiteCaps vs LA Galaxy\nWhere: BC Place\nWhen: Friday\, April 5\nTime: 7:00 pm\nCost: $25 per ticket \nEveryone is required to arrange their own transportation to and from the game.   \nStudents under age 16 should be accompanied by an adult. \nBecause it’s a “premium” game I need to submit our order sooner rather than later to assure group seating.   \nPlease reserve your tickets here before Friday\, March 1.
URL:https://schoolathome.ca/event/vancouver-whitecaps-vs-la-galaxy/
CATEGORIES:Field Trips
ATTACH;FMTTYPE=image/png:https://schoolathome.ca/wp-content/uploads/2019/02/bangoura-cele.png
END:VEVENT
END:VCALENDAR