BEGIN:VCALENDAR
VERSION:2.0
PRODID:-//Traditional Learning Academy (TLA) Online - ECPv5.3.2.1//NONSGML v1.0//EN
CALSCALE:GREGORIAN
METHOD:PUBLISH
X-WR-CALNAME:Traditional Learning Academy (TLA) Online
X-ORIGINAL-URL:https://schoolathome.ca
X-WR-CALDESC:Events for Traditional Learning Academy (TLA) Online
BEGIN:VTIMEZONE
TZID:America/Los_Angeles
BEGIN:DAYLIGHT
TZOFFSETFROM:-0800
TZOFFSETTO:-0700
TZNAME:PDT
DTSTART:20180311T100000
END:DAYLIGHT
BEGIN:STANDARD
TZOFFSETFROM:-0700
TZOFFSETTO:-0800
TZNAME:PST
DTSTART:20181104T090000
END:STANDARD
END:VTIMEZONE
BEGIN:VEVENT
DTSTART;TZID=America/Los_Angeles:20180620T110000
DTEND;TZID=America/Los_Angeles:20180620T140000
DTSTAMP:20260420T144819
CREATED:20180529T165310Z
LAST-MODIFIED:20180529T165310Z
UID:2137-1529492400-1529503200@schoolathome.ca
SUMMARY:Year End Picnic
DESCRIPTION:Bring: picnic blankets\, water toys\, lunch\, bathing suits for the spray park\, hats\, and sunscreen.\n We will organize some games after lunch at around 12:30 but the rest of the day is free to spend how you wish. \nStudents in grades K-7 must attend with parent supervision. Students in grades 8-12 may be dropped off and picked up at 1:30pm. TLA teachers will only be on site as an emergency contact and to supervise until 1:30. We cannot supervise all students in all parts of the park. \nSign up form here. \n\n						\n			\n				\n				Share on Facebook\n			\n		\n\n		\n			\n				\n				Tweet\n			\n		\n\n		\n			\n				\n				Follow us\n			\n		\n\n		\n			\n				\n				Share\n			\n		\n\n		\n			\n				\n				Share\n			\n		\n\n		\n			\n				\n				Share\n			\n		\n\n		\n			\n				\n				Share\n			\n		\n\n		\n			\n				\n				Share
URL:https://schoolathome.ca/event/year-end-picnic/
CATEGORIES:Field Trips
END:VEVENT
END:VCALENDAR