BEGIN:VCALENDAR
VERSION:2.0
PRODID:-//Traditional Learning Academy (TLA) Online - ECPv5.3.2.1//NONSGML v1.0//EN
CALSCALE:GREGORIAN
METHOD:PUBLISH
X-WR-CALNAME:Traditional Learning Academy (TLA) Online
X-ORIGINAL-URL:https://schoolathome.ca
X-WR-CALDESC:Events for Traditional Learning Academy (TLA) Online
BEGIN:VTIMEZONE
TZID:America/Vancouver
BEGIN:DAYLIGHT
TZOFFSETFROM:-0800
TZOFFSETTO:-0700
TZNAME:PDT
DTSTART:20260308T100000
END:DAYLIGHT
BEGIN:STANDARD
TZOFFSETFROM:-0700
TZOFFSETTO:-0800
TZNAME:PST
DTSTART:20261101T090000
END:STANDARD
END:VTIMEZONE
BEGIN:VEVENT
DTSTART;TZID=America/Vancouver:20260506T121500
DTEND;TZID=America/Vancouver:20260506T150000
DTSTAMP:20260419T105736
CREATED:20260223T232639Z
LAST-MODIFIED:20260223T232903Z
UID:9743-1778069700-1778079600@schoolathome.ca
SUMMARY:VSO Hockey Sweater
DESCRIPTION:Join us for the Vancouver Symphony Orchestra performance of the HOCKEY SWEATER \n\n\nVSO Elementary school concerts are a fun\, educational\, and interactive way to introduce students to orchestral music. This year’s concerts explore the wild\, wonderful world of percussion\, as well as the rhythm of sport and the power of music to unite us. \nWEDNESDAY\, May 6 at 12:15pm (doors open at 11:45am) \n\n\nOrpheum Vancouver:  601 Smithe St\, Vancouver\, BC \n\n\n11:35am arrive and gather in front of Orpheum (Smithe Street Entrance) \n11:45am Theatre Doors Open\n\n12:15pm Concert begins and last approximately 1 hour. \nCost: $12 per person (younger siblings\, students and adults) \n\n***only infants 6 months and under do not have to pay for a ticket\nContact Person/Information: Cara Lee Buzza\,  cbuzza@schoolathome.ca\, 1-800-745-1320 ext 114Sign-up deadline: Monday\, April 6\nGoogle form to register: https://forms.gle/JqcLdKhTMRjD9eZV8\n\n\n\n						\n			\n				\n				Share on Facebook\n			\n		\n\n		\n			\n				\n				Tweet\n			\n		\n\n		\n			\n				\n				Follow us\n			\n		\n\n		\n			\n				\n				Share\n			\n		\n\n		\n			\n				\n				Share\n			\n		\n\n		\n			\n				\n				Share\n			\n		\n\n		\n			\n				\n				Share\n			\n		\n\n		\n			\n				\n				Share
URL:https://schoolathome.ca/event/vso-hockey-sweater/
LOCATION:Vancouver Orpheum Theatre\, 601 Smithe St\, Vancouver\, BC
CATEGORIES:Field Trips
ORGANIZER;CN="Cara%20Lee%20Buzza":MAILTO:cbuzza@schoolathome.ca
END:VEVENT
END:VCALENDAR