BEGIN:VCALENDAR
VERSION:2.0
PRODID:-//Traditional Learning Academy (TLA) Online - ECPv5.3.2.1//NONSGML v1.0//EN
CALSCALE:GREGORIAN
METHOD:PUBLISH
X-WR-CALNAME:Traditional Learning Academy (TLA) Online
X-ORIGINAL-URL:https://schoolathome.ca
X-WR-CALDESC:Events for Traditional Learning Academy (TLA) Online
BEGIN:VTIMEZONE
TZID:America/Los_Angeles
BEGIN:DAYLIGHT
TZOFFSETFROM:-0800
TZOFFSETTO:-0700
TZNAME:PDT
DTSTART:20190310T100000
END:DAYLIGHT
BEGIN:STANDARD
TZOFFSETFROM:-0700
TZOFFSETTO:-0800
TZNAME:PST
DTSTART:20191103T090000
END:STANDARD
END:VTIMEZONE
BEGIN:VEVENT
DTSTART;TZID=America/Los_Angeles:20190212T190000
DTEND;TZID=America/Los_Angeles:20190212T211500
DTSTAMP:20260421T032025
CREATED:20190121T153629Z
LAST-MODIFIED:20190121T153629Z
UID:2495-1549998000-1550006100@schoolathome.ca
SUMMARY:VOS - La Boheme
DESCRIPTION:Grade 7 – 12 TLA students are invited to participate – a limited number of adult tickets for parents to accompany their child(ren) will be available depending on student numbers. \n6:30 pm arrive and gather in front of the main entrance to Queen Elizabeth Theater on Cambie Street. Pickup will be at the same location after the performance ends\, approximately 9:15pm. \nYou may view the performance details on the Vancouver Opera Society’s Website at this link: https://www.vancouveropera.ca/boheme/ \nWhere: Queen Elizabeth Theater\, 649 Cambie St\, Vancouver\, BC\nCost: $15 per student\nContact Person/Information: Maureen Krump\, mkrump@schoolathome.ca \nSign-up deadline: Jan. 25\, 2019 \nSIGN UP HERE \n\n						\n			\n				\n				Share on Facebook\n			\n		\n\n		\n			\n				\n				Tweet\n			\n		\n\n		\n			\n				\n				Follow us\n			\n		\n\n		\n			\n				\n				Share\n			\n		\n\n		\n			\n				\n				Share\n			\n		\n\n		\n			\n				\n				Share\n			\n		\n\n		\n			\n				\n				Share\n			\n		\n\n		\n			\n				\n				Share
URL:https://schoolathome.ca/event/vos-la-boheme/
CATEGORIES:Field Trips
END:VEVENT
END:VCALENDAR