BEGIN:VCALENDAR
VERSION:2.0
PRODID:-//Traditional Learning Academy (TLA) Online - ECPv5.3.2.1//NONSGML v1.0//EN
CALSCALE:GREGORIAN
METHOD:PUBLISH
X-WR-CALNAME:Traditional Learning Academy (TLA) Online
X-ORIGINAL-URL:https://schoolathome.ca
X-WR-CALDESC:Events for Traditional Learning Academy (TLA) Online
BEGIN:VTIMEZONE
TZID:America/Vancouver
BEGIN:DAYLIGHT
TZOFFSETFROM:-0800
TZOFFSETTO:-0700
TZNAME:PDT
DTSTART:20250309T100000
END:DAYLIGHT
BEGIN:STANDARD
TZOFFSETFROM:-0700
TZOFFSETTO:-0800
TZNAME:PST
DTSTART:20251102T090000
END:STANDARD
END:VTIMEZONE
BEGIN:VEVENT
DTSTART;TZID=America/Vancouver:20250128T130000
DTEND;TZID=America/Vancouver:20250128T150000
DTSTAMP:20260419T071914
CREATED:20250117T171000Z
LAST-MODIFIED:20250117T171322Z
UID:8800-1738069200-1738076400@schoolathome.ca
SUMMARY:Vanderhoof Conservation Office Tour
DESCRIPTION:This will be a visit to the Vanderhoof CO Office\, with a presentation by a Conservation officer covering animal safety\, the role of the CO and the equipment they use to do their jobs. \n\n						\n			\n				\n				Share on Facebook\n			\n		\n\n		\n			\n				\n				Tweet\n			\n		\n\n		\n			\n				\n				Follow us\n			\n		\n\n		\n			\n				\n				Share\n			\n		\n\n		\n			\n				\n				Share\n			\n		\n\n		\n			\n				\n				Share\n			\n		\n\n		\n			\n				\n				Share\n			\n		\n\n		\n			\n				\n				Share
URL:https://schoolathome.ca/event/vanderhoof-conservation-office-tour-2/
CATEGORIES:Field Trips
ORGANIZER;CN="Jen%20Duncan":MAILTO:jduncan@schoolathome.ca
END:VEVENT
END:VCALENDAR