BEGIN:VCALENDAR
VERSION:2.0
PRODID:-//Traditional Learning Academy (TLA) Online - ECPv5.3.2.1//NONSGML v1.0//EN
CALSCALE:GREGORIAN
METHOD:PUBLISH
X-WR-CALNAME:Traditional Learning Academy (TLA) Online
X-ORIGINAL-URL:https://schoolathome.ca
X-WR-CALDESC:Events for Traditional Learning Academy (TLA) Online
BEGIN:VTIMEZONE
TZID:America/Vancouver
BEGIN:DAYLIGHT
TZOFFSETFROM:-0800
TZOFFSETTO:-0700
TZNAME:PDT
DTSTART:20220313T100000
END:DAYLIGHT
BEGIN:STANDARD
TZOFFSETFROM:-0700
TZOFFSETTO:-0800
TZNAME:PST
DTSTART:20221106T090000
END:STANDARD
END:VTIMEZONE
BEGIN:VEVENT
DTSTART;TZID=America/Vancouver:20220428T190000
DTEND;TZID=America/Vancouver:20220428T213000
DTSTAMP:20260421T012836
CREATED:20220405T181225Z
LAST-MODIFIED:20220405T181225Z
UID:6548-1651172400-1651181400@schoolathome.ca
SUMMARY:Vancouver Opera Field Trip
DESCRIPTION:THURSDAY\,  April 28\, 2022 at 7pm –  HMS Pinafore – Vancouver Opera  dress rehearsal –  arrive by 6:30pm \nGilbert and Sullivan’s comedic tale is a delightful combination of forbidden love across class divides and the shenanigans that take place along the way. Poking fun at social hierarchies and packed with absurd characters\, this wildly popular operetta delivers plenty of laughs and memorable music. \n TLA families and staff ( including children who can sit quietly through a 140 minute performance!)   \nWhere:  Queen Elizabeth Theatre\, 630 Hamilton Street – meet outside the theatre at 6:30 pm \nCost: $20 per person attending.  Tickets are non-refundable.   \nContact Person/Information: Peggy Smart\,  psmart@schoolathome.ca\, 1-800-745-1320 ext 129 \nSign-up deadline: Saturday\, April 9 \n\n						\n			\n				\n				Share on Facebook\n			\n		\n\n		\n			\n				\n				Tweet\n			\n		\n\n		\n			\n				\n				Follow us\n			\n		\n\n		\n			\n				\n				Share\n			\n		\n\n		\n			\n				\n				Share\n			\n		\n\n		\n			\n				\n				Share\n			\n		\n\n		\n			\n				\n				Share\n			\n		\n\n		\n			\n				\n				Share
URL:https://schoolathome.ca/event/vancouver-opera-field-trip/
CATEGORIES:School-wide,Field Trips
END:VEVENT
END:VCALENDAR