BEGIN:VCALENDAR
VERSION:2.0
PRODID:-//Traditional Learning Academy (TLA) Online - ECPv5.3.2.1//NONSGML v1.0//EN
CALSCALE:GREGORIAN
METHOD:PUBLISH
X-WR-CALNAME:Traditional Learning Academy (TLA) Online
X-ORIGINAL-URL:https://schoolathome.ca
X-WR-CALDESC:Events for Traditional Learning Academy (TLA) Online
BEGIN:VTIMEZONE
TZID:America/Vancouver
BEGIN:DAYLIGHT
TZOFFSETFROM:-0800
TZOFFSETTO:-0700
TZNAME:PDT
DTSTART:20230312T100000
END:DAYLIGHT
BEGIN:STANDARD
TZOFFSETFROM:-0700
TZOFFSETTO:-0800
TZNAME:PST
DTSTART:20231105T090000
END:STANDARD
END:VTIMEZONE
BEGIN:VEVENT
DTSTART;TZID=America/Vancouver:20230118T103000
DTEND;TZID=America/Vancouver:20230118T123000
DTSTAMP:20260421T031620
CREATED:20221107T162218Z
LAST-MODIFIED:20221107T195942Z
UID:6938-1674037800-1674045000@schoolathome.ca
SUMMARY:Vancouver Art Gallery Workshop and Tour
DESCRIPTION:WEDNESDAY\, January 18 from 10:30 am -12:30 pm \nGrade 2-12 TLA families are invited to participate (non-TLA students are welcome\, too) \n10:20am arrive and gather in front of museum\n10:30am-12:30pm\n\n\nROBERT DAVIDSON: A LINE THAT BENDS BUT DOES NOT BREAK \n\nThis exhibition celebrates one of Canada’s and the Haida nation’s national treasures\, Guud sans glans Robert Davidson. Since the 1960s\, he has been instrumental in the revival of Haida art and culture and is unquestionably one of that tradition’s most respected living artist. \nThis interactive tour will explore how Davidson’s deep knowledge of Haida design has allowed him to innovate from within that tradition\, often drawing out and abstracting elements of shape\, colour and line so that we can consider them closely and see them in new ways. By viewing Davidson’s prints\, drawings and paintings\, students will build visual literacy skills to begin to understand the conventions of the work\, the histories and values that inform it\, and the innovations it advances. \nStudents and parents will be able to explore the rest of the gallery after the workshop. \n\nWhere: 750 Hornby Street\, Vancouver\, BC\nCost: $8 per student (accompanying adult cost TBD)\nContact Person/Information: Gabe Linder\,  glinder@schoolathome.ca \nSign-up deadline: Wednesday\, January 11 (or full at 30 students) \n\n\n\n						\n			\n				\n				Share on Facebook\n			\n		\n\n		\n			\n				\n				Tweet\n			\n		\n\n		\n			\n				\n				Follow us\n			\n		\n\n		\n			\n				\n				Share\n			\n		\n\n		\n			\n				\n				Share\n			\n		\n\n		\n			\n				\n				Share\n			\n		\n\n		\n			\n				\n				Share\n			\n		\n\n		\n			\n				\n				Share
URL:https://schoolathome.ca/event/vancouver-art-gallery-workshop-and-tour/
CATEGORIES:Field Trips
END:VEVENT
END:VCALENDAR