BEGIN:VCALENDAR
VERSION:2.0
PRODID:-//Traditional Learning Academy (TLA) Online - ECPv5.3.2.1//NONSGML v1.0//EN
CALSCALE:GREGORIAN
METHOD:PUBLISH
X-WR-CALNAME:Traditional Learning Academy (TLA) Online
X-ORIGINAL-URL:https://schoolathome.ca
X-WR-CALDESC:Events for Traditional Learning Academy (TLA) Online
BEGIN:VTIMEZONE
TZID:America/Vancouver
BEGIN:DAYLIGHT
TZOFFSETFROM:-0800
TZOFFSETTO:-0700
TZNAME:PDT
DTSTART:20240310T100000
END:DAYLIGHT
BEGIN:STANDARD
TZOFFSETFROM:-0700
TZOFFSETTO:-0800
TZNAME:PST
DTSTART:20241103T090000
END:STANDARD
END:VTIMEZONE
BEGIN:VEVENT
DTSTART;TZID=America/Vancouver:20240531T100000
DTEND;TZID=America/Vancouver:20240531T140000
DTSTAMP:20260420T001816
CREATED:20240422T173800Z
LAST-MODIFIED:20240422T175648Z
UID:8248-1717149600-1717164000@schoolathome.ca
SUMMARY:TLA @ Playland: Amusement Park Science Field Trip
DESCRIPTION:FRIDAY\, May 31 from 10:00 am – 2:00 pm \nGrade 8-12 TLA students are invited to participate \nWhere: Playland (Vancouver PNE)\nCost: $19 per student\nContact Person/Information: Annette Flitton (aflitton@schoolathome.ca) \nSign-up deadline: May 10\, payment deadline May 18 \n\n						\n			\n				\n				Share on Facebook\n			\n		\n\n		\n			\n				\n				Tweet\n			\n		\n\n		\n			\n				\n				Follow us\n			\n		\n\n		\n			\n				\n				Share\n			\n		\n\n		\n			\n				\n				Share\n			\n		\n\n		\n			\n				\n				Share\n			\n		\n\n		\n			\n				\n				Share\n			\n		\n\n		\n			\n				\n				Share
URL:https://schoolathome.ca/event/tla-playland-amusement-park-science/
LOCATION:Playland Vancouver
CATEGORIES:Field Trips
ORGANIZER;CN="Annette%20Flitton":MAILTO:aflitton@schoolathome.ca
END:VEVENT
END:VCALENDAR