BEGIN:VCALENDAR
VERSION:2.0
PRODID:-//Traditional Learning Academy (TLA) Online - ECPv5.3.2.1//NONSGML v1.0//EN
CALSCALE:GREGORIAN
METHOD:PUBLISH
X-WR-CALNAME:Traditional Learning Academy (TLA) Online
X-ORIGINAL-URL:https://schoolathome.ca
X-WR-CALDESC:Events for Traditional Learning Academy (TLA) Online
BEGIN:VTIMEZONE
TZID:America/Vancouver
BEGIN:DAYLIGHT
TZOFFSETFROM:-0800
TZOFFSETTO:-0700
TZNAME:PDT
DTSTART:20260308T100000
END:DAYLIGHT
BEGIN:STANDARD
TZOFFSETFROM:-0700
TZOFFSETTO:-0800
TZNAME:PST
DTSTART:20261101T090000
END:STANDARD
END:VTIMEZONE
BEGIN:VEVENT
DTSTART;TZID=America/Vancouver:20260427T193000
DTEND;TZID=America/Vancouver:20260427T210000
DTSTAMP:20260420T035911
CREATED:20260409T211219Z
LAST-MODIFIED:20260409T211614Z
UID:9806-1777318200-1777323600@schoolathome.ca
SUMMARY:Tik Tok: It's Time to Talk About Screen Time and Our Children's Minds and Brains
DESCRIPTION:Join us for a live presentation by Chris Mattatall\, PhD \nMonday April 27 at 7:30pm \nLocation: TLA Hawthorne \n5741 176 Street\, Surrey\, BC \nA livestream link will be available for those who \nwould like to join the conversation virtually \n\n						\n			\n				\n				Share on Facebook\n			\n		\n\n		\n			\n				\n				Tweet\n			\n		\n\n		\n			\n				\n				Follow us\n			\n		\n\n		\n			\n				\n				Share\n			\n		\n\n		\n			\n				\n				Share\n			\n		\n\n		\n			\n				\n				Share\n			\n		\n\n		\n			\n				\n				Share\n			\n		\n\n		\n			\n				\n				Share
URL:https://schoolathome.ca/event/tik-tok-its-time-to-talk-about-screen-time-and-our-childrens-minds-and-brains/
LOCATION:TLA Hawthorne\, 5741 176 St.\, Surrey\, British Columbia\, V4S4C9\, Canada
CATEGORIES:School-wide
ORGANIZER;CN="Steve%20Borley":MAILTO:sborley@schoolathome.ca
END:VEVENT
END:VCALENDAR