BEGIN:VCALENDAR
VERSION:2.0
PRODID:-//Traditional Learning Academy (TLA) Online - ECPv5.3.2.1//NONSGML v1.0//EN
CALSCALE:GREGORIAN
METHOD:PUBLISH
X-WR-CALNAME:Traditional Learning Academy (TLA) Online
X-ORIGINAL-URL:https://schoolathome.ca
X-WR-CALDESC:Events for Traditional Learning Academy (TLA) Online
BEGIN:VTIMEZONE
TZID:America/Los_Angeles
BEGIN:DAYLIGHT
TZOFFSETFROM:-0800
TZOFFSETTO:-0700
TZNAME:PDT
DTSTART:20180311T100000
END:DAYLIGHT
BEGIN:STANDARD
TZOFFSETFROM:-0700
TZOFFSETTO:-0800
TZNAME:PST
DTSTART:20181104T090000
END:STANDARD
END:VTIMEZONE
BEGIN:VEVENT
DTSTART;VALUE=DATE:20180223
DTEND;VALUE=DATE:20180224
DTSTAMP:20260420T081956
CREATED:20180214T180623Z
LAST-MODIFIED:20180214T180623Z
UID:1957-1519344000-1519430399@schoolathome.ca
SUMMARY:Term 2 Assignment Deadline
DESCRIPTION:Assignments for term 2 must be in by this deadline. \n\n						\n			\n				\n				Share on Facebook\n			\n		\n\n		\n			\n				\n				Tweet\n			\n		\n\n		\n			\n				\n				Follow us\n			\n		\n\n		\n			\n				\n				Share\n			\n		\n\n		\n			\n				\n				Share\n			\n		\n\n		\n			\n				\n				Share\n			\n		\n\n		\n			\n				\n				Share\n			\n		\n\n		\n			\n				\n				Share
URL:https://schoolathome.ca/event/term-2-assignment-deadline-2/
CATEGORIES:School-wide
END:VEVENT
END:VCALENDAR