BEGIN:VCALENDAR
VERSION:2.0
PRODID:-//Traditional Learning Academy (TLA) Online - ECPv5.3.2.1//NONSGML v1.0//EN
CALSCALE:GREGORIAN
METHOD:PUBLISH
X-WR-CALNAME:Traditional Learning Academy (TLA) Online
X-ORIGINAL-URL:https://schoolathome.ca
X-WR-CALDESC:Events for Traditional Learning Academy (TLA) Online
BEGIN:VTIMEZONE
TZID:America/Vancouver
BEGIN:DAYLIGHT
TZOFFSETFROM:-0800
TZOFFSETTO:-0700
TZNAME:PDT
DTSTART:20210314T100000
END:DAYLIGHT
BEGIN:STANDARD
TZOFFSETFROM:-0700
TZOFFSETTO:-0800
TZNAME:PST
DTSTART:20211107T090000
END:STANDARD
END:VTIMEZONE
BEGIN:VEVENT
DTSTART;TZID=America/Vancouver:20211109T100000
DTEND;TZID=America/Vancouver:20211109T110000
DTSTAMP:20260425T175416
CREATED:20210707T172304Z
LAST-MODIFIED:20210707T175216Z
UID:5959-1636452000-1636455600@schoolathome.ca
SUMMARY:Strong Stories: Dakelh Unit 2 (Online) - Grades 2-4
DESCRIPTION:Starts at 10am and runs for approx 30 – 45min depending on the books read/discussion. 4 Tuesdays : November 9\, 16\, 23\, 30 \nhttps://docs.google.com/forms/d/1ljPb0ign0MGRR_ikaAQzv_s06TaabPrVWAkFkTS_ems/edit \n\n						\n			\n				\n				Share on Facebook\n			\n		\n\n		\n			\n				\n				Tweet\n			\n		\n\n		\n			\n				\n				Follow us\n			\n		\n\n		\n			\n				\n				Share\n			\n		\n\n		\n			\n				\n				Share\n			\n		\n\n		\n			\n				\n				Share\n			\n		\n\n		\n			\n				\n				Share\n			\n		\n\n		\n			\n				\n				Share
URL:https://schoolathome.ca/event/strong-stories-dakelh-unit-2-online-grades-2-4/
CATEGORIES:Community Class
END:VEVENT
END:VCALENDAR