BEGIN:VCALENDAR
VERSION:2.0
PRODID:-//Traditional Learning Academy (TLA) Online - ECPv5.3.2.1//NONSGML v1.0//EN
CALSCALE:GREGORIAN
METHOD:PUBLISH
X-WR-CALNAME:Traditional Learning Academy (TLA) Online
X-ORIGINAL-URL:https://schoolathome.ca
X-WR-CALDESC:Events for Traditional Learning Academy (TLA) Online
BEGIN:VTIMEZONE
TZID:America/Vancouver
BEGIN:DAYLIGHT
TZOFFSETFROM:-0800
TZOFFSETTO:-0700
TZNAME:PDT
DTSTART:20240310T100000
END:DAYLIGHT
BEGIN:STANDARD
TZOFFSETFROM:-0700
TZOFFSETTO:-0800
TZNAME:PST
DTSTART:20241103T090000
END:STANDARD
END:VTIMEZONE
BEGIN:VEVENT
DTSTART;TZID=America/Vancouver:20240927T120000
DTEND;TZID=America/Vancouver:20240927T134500
DTSTAMP:20260419T062503
CREATED:20240909T180415Z
LAST-MODIFIED:20240909T180415Z
UID:8532-1727438400-1727444700@schoolathome.ca
SUMMARY:Stable Harvest Farm Field Trip
DESCRIPTION:Grade K-9 TLA students are invited to participate (non-TLA students are welcome\, too) \n11:45 A.M. Arrive\, park in designated lot\, gather by the main picnic tables.\n12:00 – 1:40 P.M. Students and parents will be divided into small groups. Each small group will rotate through a series of twelve stations by the knowledgeable staff at Stable Harvest Farm. This educational program will explore themes related to sustainable farming and the natural environment. Students will get a hands-on experience of soil\, pollinators\, water\, greenhouses\, invasive species\, bats\, owls\, bugs\, greenhouse birds and more!  Bring your own lunch\, pencils\, hats\, raingear and cameras. \nWhere:  Stable Harvest Farm\, 5848 216 St.\, Langley\, B.C. \nSign-up deadline: Monday\, Sept. 23rd\, 2024 \n\n						\n			\n				\n				Share on Facebook\n			\n		\n\n		\n			\n				\n				Tweet\n			\n		\n\n		\n			\n				\n				Follow us\n			\n		\n\n		\n			\n				\n				Share\n			\n		\n\n		\n			\n				\n				Share\n			\n		\n\n		\n			\n				\n				Share\n			\n		\n\n		\n			\n				\n				Share\n			\n		\n\n		\n			\n				\n				Share
URL:https://schoolathome.ca/event/stable-harvest-farm-field-trip/
CATEGORIES:Field Trips
ORGANIZER;CN="Julia%20Kuester":MAILTO:jkuester@schoolathome.ca
END:VEVENT
END:VCALENDAR