BEGIN:VCALENDAR
VERSION:2.0
PRODID:-//Traditional Learning Academy (TLA) Online - ECPv5.3.2.1//NONSGML v1.0//EN
CALSCALE:GREGORIAN
METHOD:PUBLISH
X-WR-CALNAME:Traditional Learning Academy (TLA) Online
X-ORIGINAL-URL:https://schoolathome.ca
X-WR-CALDESC:Events for Traditional Learning Academy (TLA) Online
BEGIN:VTIMEZONE
TZID:America/Los_Angeles
BEGIN:DAYLIGHT
TZOFFSETFROM:-0800
TZOFFSETTO:-0700
TZNAME:PDT
DTSTART:20180311T100000
END:DAYLIGHT
BEGIN:STANDARD
TZOFFSETFROM:-0700
TZOFFSETTO:-0800
TZNAME:PST
DTSTART:20181104T090000
END:STANDARD
END:VTIMEZONE
BEGIN:VEVENT
DTSTART;TZID=America/Los_Angeles:20181010T093000
DTEND;TZID=America/Los_Angeles:20181010T140000
DTSTAMP:20260420T222444
CREATED:20180918T113628Z
LAST-MODIFIED:20180918T113628Z
UID:2326-1539163800-1539180000@schoolathome.ca
SUMMARY:Science at the PNE - Grade 8-12
DESCRIPTION:This is a fun and interactive learning program that will enhance students’ understanding of Secondary Science\, Physics\, Chemistry and Biology by demonstrating how these concepts apply to the world around them.  And yes\, you get to go on the rides 🙂 \nThis event is open to all students\, but students in Science 8\, Science 10\, Biology 12\, Physics 11/12 and Chemistry 11/12 are encouraged to attend. \nTeachers: Mary-Anne VanderHorst & Jennifer Boessenkool\nFee: $19 \nClick here for more information from the PNE. \n*** Deadline to sign up is Monday\, October 1 ***  \nSign Up here. \n\n						\n			\n				\n				Share on Facebook\n			\n		\n\n		\n			\n				\n				Tweet\n			\n		\n\n		\n			\n				\n				Follow us\n			\n		\n\n		\n			\n				\n				Share\n			\n		\n\n		\n			\n				\n				Share\n			\n		\n\n		\n			\n				\n				Share\n			\n		\n\n		\n			\n				\n				Share\n			\n		\n\n		\n			\n				\n				Share
URL:https://schoolathome.ca/event/science-at-the-pne/
CATEGORIES:Field Trips
END:VEVENT
END:VCALENDAR