BEGIN:VCALENDAR
VERSION:2.0
PRODID:-//Traditional Learning Academy (TLA) Online - ECPv5.3.2.1//NONSGML v1.0//EN
CALSCALE:GREGORIAN
METHOD:PUBLISH
X-WR-CALNAME:Traditional Learning Academy (TLA) Online
X-ORIGINAL-URL:https://schoolathome.ca
X-WR-CALDESC:Events for Traditional Learning Academy (TLA) Online
BEGIN:VTIMEZONE
TZID:America/Vancouver
BEGIN:DAYLIGHT
TZOFFSETFROM:-0800
TZOFFSETTO:-0700
TZNAME:PDT
DTSTART:20260308T100000
END:DAYLIGHT
BEGIN:STANDARD
TZOFFSETFROM:-0700
TZOFFSETTO:-0800
TZNAME:PST
DTSTART:20261101T090000
END:STANDARD
END:VTIMEZONE
BEGIN:VEVENT
DTSTART;TZID=America/Vancouver:20260220T094500
DTEND;TZID=America/Vancouver:20260220T113000
DTSTAMP:20260420T050335
CREATED:20260112T214059Z
LAST-MODIFIED:20260112T215930Z
UID:9612-1771580700-1771587000@schoolathome.ca
SUMMARY:Salish Sea beach walk with Talaysay Tours
DESCRIPTION:This field trip is a unique opportunity to experience the wonder of traditional ecological knowledge\, interpreted through the beautiful beach at Whytecliff Park in West Vancouver. 🦀🐚 🐟\n\nOur first field trip in with Talaysay Tours was deeply meaningful for all of the participants\, so we are pleased to offer another tour\, this time in a different location.\n\nTalaysay Tours is recognized as one of the leading Indigenous tour groups in BC\, and their tours offer deep insights into history\, culture\, geography and biology. On this nature walking tour we will hear the stories of how shíshálh (Sechelt) & Sḵwx̱wú7mesh (Squamish) People have been using the ocean and the land for food\, medicine and technology for thousands of years.\n\nTo ensure that students get the most out of this experience\, we will be capping this field trip at 20 participants\, so space is very limited. We are asking that all students be in grade 6-12\, and be prepared to show the utmost respect for our guide and for the land. Please note that students do NOT need to be enrolled with TLA\, so siblings and friends are welcome.\n\nDate: Friday February 20th\, 2026\nTime: 9:45-11:30am\nWhere: Whytecliff Park  (Whytecliff Park\, 7102 Marine Dr\, West Vancouver)\nCost: $50 per student\, $70 per adult (can be taken from the student’s Hub budget\, or parents can by via credit card)\nContact Person: Daniel Perrett\, dperrett@schoolathome.ca\, 778-957-5097  \nPlease bring:\n-Comfortable walking shoes\, or rain boots depending on the weather\n-A pair of warm gloves\n-A toque\n-A rain jacket\n-A water bottle and a snack\n-A journal and a pencil to take notes\n\nPlease note that this field trip will primarily be focused on traditional ecological knowledge\, but it may also explain some of the cultural and spiritual practices of the Squamish people. This can be a starting point for further discussions about these ideas at home.\n\nExpect fresh air and a sense of wonder! \n\nSign-up deadline: February 3rd\, 2026 \n\n\n						\n			\n				\n				Share on Facebook\n			\n		\n\n		\n			\n				\n				Tweet\n			\n		\n\n		\n			\n				\n				Follow us\n			\n		\n\n		\n			\n				\n				Share\n			\n		\n\n		\n			\n				\n				Share\n			\n		\n\n		\n			\n				\n				Share\n			\n		\n\n		\n			\n				\n				Share\n			\n		\n\n		\n			\n				\n				Share
URL:https://schoolathome.ca/event/salish-sea-beach-walk-with-talaysay-tours/
LOCATION:Whytecliff Park\, 102 Marine Dr\,\, West Vancouver
CATEGORIES:Field Trips
ORGANIZER;CN="Daniel%20Perrett":MAILTO:dperrett@schoolathome.ca
END:VEVENT
END:VCALENDAR