BEGIN:VCALENDAR
VERSION:2.0
PRODID:-//Traditional Learning Academy (TLA) Online - ECPv5.3.2.1//NONSGML v1.0//EN
CALSCALE:GREGORIAN
METHOD:PUBLISH
X-WR-CALNAME:Traditional Learning Academy (TLA) Online
X-ORIGINAL-URL:https://schoolathome.ca
X-WR-CALDESC:Events for Traditional Learning Academy (TLA) Online
BEGIN:VTIMEZONE
TZID:America/Vancouver
BEGIN:DAYLIGHT
TZOFFSETFROM:-0800
TZOFFSETTO:-0700
TZNAME:PDT
DTSTART:20250309T100000
END:DAYLIGHT
BEGIN:STANDARD
TZOFFSETFROM:-0700
TZOFFSETTO:-0800
TZNAME:PST
DTSTART:20251102T090000
END:STANDARD
END:VTIMEZONE
BEGIN:VEVENT
DTSTART;TZID=America/Vancouver:20250115T133000
DTEND;TZID=America/Vancouver:20250115T143000
DTSTAMP:20260419T074423
CREATED:20250113T184214Z
LAST-MODIFIED:20250113T184214Z
UID:8739-1736947800-1736951400@schoolathome.ca
SUMMARY:Prince George Skating Field Trip
DESCRIPTION:WEDNESDAY\, January 15th 1:30pm-2:30pm at the Elksentre 4833 Heather Rd\, Prince George\, BC V2K 3G7 All students and parents are invited to participate (non-TLA students are welcome\, too)\n– Parents must stay with their children at this event.\n–All those who are 18 and younger require a helmet.\n\nWe have booked the Elksentre for a fun skating time from 1:30-2:30!\nThere will not be any skating instruction during this field trip.\nThere will be skate and helmet rentals available at the rink for an additional charge\, available at the rental counter. Skates $4\, helmet $2\n(Cash or card available).\nPlease no hockey sticks. \nWhere: 4833 Heather Rd\, Prince George\, BC V2K 3G7 \nCost: $7-10 per skater-(depending on registration numbers) Pay at the door via square system with credit/debit cards\, or invoice request (NO cash payment available). You also have the option to use TLA school funding if it’s available\, please make that request below. \n\nContact Person/Information: Kelly Mazurak kmazurak@schoolathome.ca\n\nSign-up deadline: Monday January 13th\, 2025\n\n						\n			\n				\n				Share on Facebook\n			\n		\n\n		\n			\n				\n				Tweet\n			\n		\n\n		\n			\n				\n				Follow us\n			\n		\n\n		\n			\n				\n				Share\n			\n		\n\n		\n			\n				\n				Share\n			\n		\n\n		\n			\n				\n				Share\n			\n		\n\n		\n			\n				\n				Share\n			\n		\n\n		\n			\n				\n				Share
URL:https://schoolathome.ca/event/prince-george-skating-field-trip-2/
CATEGORIES:Field Trips
ORGANIZER;CN="Kelly%20Mazurak":MAILTO:kmazurak@schoolathome.ca
END:VEVENT
END:VCALENDAR