BEGIN:VCALENDAR
VERSION:2.0
PRODID:-//Traditional Learning Academy (TLA) Online - ECPv5.3.2.1//NONSGML v1.0//EN
CALSCALE:GREGORIAN
METHOD:PUBLISH
X-WR-CALNAME:Traditional Learning Academy (TLA) Online
X-ORIGINAL-URL:https://schoolathome.ca
X-WR-CALDESC:Events for Traditional Learning Academy (TLA) Online
BEGIN:VTIMEZONE
TZID:America/Vancouver
BEGIN:DAYLIGHT
TZOFFSETFROM:-0800
TZOFFSETTO:-0700
TZNAME:PDT
DTSTART:20250309T100000
END:DAYLIGHT
BEGIN:STANDARD
TZOFFSETFROM:-0700
TZOFFSETTO:-0800
TZNAME:PST
DTSTART:20251102T090000
END:STANDARD
END:VTIMEZONE
BEGIN:VEVENT
DTSTART;VALUE=DATE:20250501
DTEND;VALUE=DATE:20250502
DTSTAMP:20260419T105742
CREATED:20250422T163824Z
LAST-MODIFIED:20250422T173342Z
UID:8969-1746057600-1746143999@schoolathome.ca
SUMMARY:Movie Night at TLA Hawthorne!
DESCRIPTION:When: May 1\nWhere: TLA Hawthorne (Hawthorne Square\, Cloverdale at 5741 176 Street\, Surrey\, BC  V3S 4C9)\nWho: All Grades 8-12!\nSign-up form with movie vote coming soon! \n\n						\n			\n				\n				Share on Facebook\n			\n		\n\n		\n			\n				\n				Tweet\n			\n		\n\n		\n			\n				\n				Follow us\n			\n		\n\n		\n			\n				\n				Share\n			\n		\n\n		\n			\n				\n				Share\n			\n		\n\n		\n			\n				\n				Share\n			\n		\n\n		\n			\n				\n				Share\n			\n		\n\n		\n			\n				\n				Share
URL:https://schoolathome.ca/event/movie-night-at-tla-hawthorne/
LOCATION:TLA Hawthorne\, 5741 176 St.\, Surrey\, British Columbia\, V4S4C9\, Canada
ORGANIZER;CN="Gabe%20Linder":MAILTO:glinder@schoolathome.ca
END:VEVENT
END:VCALENDAR