BEGIN:VCALENDAR
VERSION:2.0
PRODID:-//Traditional Learning Academy (TLA) Online - ECPv5.3.2.1//NONSGML v1.0//EN
CALSCALE:GREGORIAN
METHOD:PUBLISH
X-WR-CALNAME:Traditional Learning Academy (TLA) Online
X-ORIGINAL-URL:https://schoolathome.ca
X-WR-CALDESC:Events for Traditional Learning Academy (TLA) Online
BEGIN:VTIMEZONE
TZID:America/Vancouver
BEGIN:DAYLIGHT
TZOFFSETFROM:-0800
TZOFFSETTO:-0700
TZNAME:PDT
DTSTART:20250309T100000
END:DAYLIGHT
BEGIN:STANDARD
TZOFFSETFROM:-0700
TZOFFSETTO:-0800
TZNAME:PST
DTSTART:20251102T090000
END:STANDARD
END:VTIMEZONE
BEGIN:VEVENT
DTSTART;TZID=America/Vancouver:20250221T100000
DTEND;TZID=America/Vancouver:20250221T153000
DTSTAMP:20260420T042651
CREATED:20240903T173328Z
LAST-MODIFIED:20240903T182317Z
UID:8512-1740132000-1740151800@schoolathome.ca
SUMMARY:Mount Seymour Ski/Snowboard Lessons
DESCRIPTION:Sign up now for our ever popular and annual set of skiing/snowboarding lessons at Mount Seymour! \nI know\, it’s still summer! But these lessons are popular and always fill up\, so get your name in now! \nFridays\, Feb. 21\, 28\, Mar. 7\, 14\, 2025 10:00am-12:30pm or 1:30pm-3:30pm \nInfo/contact:  Annette Flitton  aflitton@schoolathome.ca \n\n						\n			\n				\n				Share on Facebook\n			\n		\n\n		\n			\n				\n				Tweet\n			\n		\n\n		\n			\n				\n				Follow us\n			\n		\n\n		\n			\n				\n				Share\n			\n		\n\n		\n			\n				\n				Share\n			\n		\n\n		\n			\n				\n				Share\n			\n		\n\n		\n			\n				\n				Share\n			\n		\n\n		\n			\n				\n				Share
URL:https://schoolathome.ca/event/mount-seymour-ski-snowboard-lessons/
LOCATION:Mt. Seymour
CATEGORIES:Field Trips
ORGANIZER;CN="Annette%20Flitton":MAILTO:aflitton@schoolathome.ca
END:VEVENT
END:VCALENDAR