BEGIN:VCALENDAR
VERSION:2.0
PRODID:-//Traditional Learning Academy (TLA) Online - ECPv5.3.2.1//NONSGML v1.0//EN
CALSCALE:GREGORIAN
METHOD:PUBLISH
X-WR-CALNAME:Traditional Learning Academy (TLA) Online
X-ORIGINAL-URL:https://schoolathome.ca
X-WR-CALDESC:Events for Traditional Learning Academy (TLA) Online
BEGIN:VTIMEZONE
TZID:America/Vancouver
BEGIN:DAYLIGHT
TZOFFSETFROM:-0800
TZOFFSETTO:-0700
TZNAME:PDT
DTSTART:20240310T100000
END:DAYLIGHT
BEGIN:STANDARD
TZOFFSETFROM:-0700
TZOFFSETTO:-0800
TZNAME:PST
DTSTART:20241103T090000
END:STANDARD
END:VTIMEZONE
BEGIN:VEVENT
DTSTART;TZID=America/Vancouver:20240510T083000
DTEND;TZID=America/Vancouver:20240510T153000
DTSTAMP:20260420T020635
CREATED:20240408T165125Z
LAST-MODIFIED:20240408T171539Z
UID:8231-1715329800-1715355000@schoolathome.ca
SUMMARY:Lower Seymour Conservation Reserve Field Trip
DESCRIPTION:Grades 8-12 students (priority to grades 8 & 10 students) are invited to this real-world\, hands-on learning ​while exploring the Lower Seymour Conservation Reserve and the state-of-the-art Seymour Capilano Filtration Plant (SCFP). Pick up and drop-off at TLA Hawthorne\, bus ride included in price! \n\n						\n			\n				\n				Share on Facebook\n			\n		\n\n		\n			\n				\n				Tweet\n			\n		\n\n		\n			\n				\n				Follow us\n			\n		\n\n		\n			\n				\n				Share\n			\n		\n\n		\n			\n				\n				Share\n			\n		\n\n		\n			\n				\n				Share\n			\n		\n\n		\n			\n				\n				Share\n			\n		\n\n		\n			\n				\n				Share
URL:https://schoolathome.ca/event/lower-seymour-conservation-reserve/
CATEGORIES:Field Trips
ORGANIZER;CN="Joye%20Froese":MAILTO:jfroese@schoolathome.ca
END:VEVENT
END:VCALENDAR