BEGIN:VCALENDAR
VERSION:2.0
PRODID:-//Traditional Learning Academy (TLA) Online - ECPv5.3.2.1//NONSGML v1.0//EN
CALSCALE:GREGORIAN
METHOD:PUBLISH
X-WR-CALNAME:Traditional Learning Academy (TLA) Online
X-ORIGINAL-URL:https://schoolathome.ca
X-WR-CALDESC:Events for Traditional Learning Academy (TLA) Online
BEGIN:VTIMEZONE
TZID:America/Vancouver
BEGIN:DAYLIGHT
TZOFFSETFROM:-0800
TZOFFSETTO:-0700
TZNAME:PDT
DTSTART:20240310T100000
END:DAYLIGHT
BEGIN:STANDARD
TZOFFSETFROM:-0700
TZOFFSETTO:-0800
TZNAME:PST
DTSTART:20241103T090000
END:STANDARD
END:VTIMEZONE
BEGIN:VEVENT
DTSTART;VALUE=DATE:20241220
DTEND;VALUE=DATE:20241221
DTSTAMP:20260419T060617
CREATED:20240814T204206Z
LAST-MODIFIED:20240814T204206Z
UID:8397-1734652800-1734739199@schoolathome.ca
SUMMARY:Last Day of Blended Classes & Online Systems Closed
DESCRIPTION:Share on Facebook\n			\n		\n\n		\n			\n				\n				Tweet\n			\n		\n\n		\n			\n				\n				Follow us\n			\n		\n\n		\n			\n				\n				Share\n			\n		\n\n		\n			\n				\n				Share\n			\n		\n\n		\n			\n				\n				Share\n			\n		\n\n		\n			\n				\n				Share\n			\n		\n\n		\n			\n				\n				Share
URL:https://schoolathome.ca/event/last-day-of-blended-classes-online-systems-closed/
CATEGORIES:School-wide
END:VEVENT
END:VCALENDAR