BEGIN:VCALENDAR
VERSION:2.0
PRODID:-//Traditional Learning Academy (TLA) Online - ECPv5.3.2.1//NONSGML v1.0//EN
CALSCALE:GREGORIAN
METHOD:PUBLISH
X-WR-CALNAME:Traditional Learning Academy (TLA) Online
X-ORIGINAL-URL:https://schoolathome.ca
X-WR-CALDESC:Events for Traditional Learning Academy (TLA) Online
BEGIN:VTIMEZONE
TZID:America/Los_Angeles
BEGIN:DAYLIGHT
TZOFFSETFROM:-0800
TZOFFSETTO:-0700
TZNAME:PDT
DTSTART:20170312T100000
END:DAYLIGHT
BEGIN:STANDARD
TZOFFSETFROM:-0700
TZOFFSETTO:-0800
TZNAME:PST
DTSTART:20171105T090000
END:STANDARD
END:VTIMEZONE
BEGIN:VEVENT
DTSTART;TZID=America/Los_Angeles:20171025T103000
DTEND;TZID=America/Los_Angeles:20171026T133000
DTSTAMP:20260420T082419
CREATED:20170829T062212Z
LAST-MODIFIED:20170829T062212Z
UID:797-1508927400-1509024600@schoolathome.ca
SUMMARY:K-9 Day - Barnston Island Bike Ride
DESCRIPTION:Dear TLA Parents\, for those in the Lower Mainland wishing to take part in TLAs first attempt at K-9 Days to parallel the grade 8-12 LOL (Live on Location) events\, please note that we will be hosting an outdoor activity (weather permitting). \nPlease consider attending the Barnston Island Bike Ride. Bring your bike and a bag lunch. Walk on the Barnston Ferry and join with the rest of the participants for as much of the 10 kilometer ride as you would like. TLA staff will be in attendance. \nDetails: Plan A – Meet at the Barnston Ferry parking lot at 10:30. We will walk our bikes on. We will find a convenient place to stop for a picnic lunch.  Bring clothing to account for the weather. \nPlan B (should the weather be inclement) is to enjoy a Makerspace and possible Destination Imagination activities at the Hawthorne Facility in Classroom 2. Again\, please bring a bag lunch. Parents and students and younger siblings are welcome to enjoy these events together with TLA staff. \nNeither Plan A nor Plan B has any cost associated with it. No need to sign up. Just come on out and enjoy. \n\n						\n			\n				\n				Share on Facebook\n			\n		\n\n		\n			\n				\n				Tweet\n			\n		\n\n		\n			\n				\n				Follow us\n			\n		\n\n		\n			\n				\n				Share\n			\n		\n\n		\n			\n				\n				Share\n			\n		\n\n		\n			\n				\n				Share\n			\n		\n\n		\n			\n				\n				Share\n			\n		\n\n		\n			\n				\n				Share
URL:https://schoolathome.ca/event/k-9-days/
CATEGORIES:Grades K-9,Field Trips
END:VEVENT
END:VCALENDAR