BEGIN:VCALENDAR
VERSION:2.0
PRODID:-//Traditional Learning Academy (TLA) Online - ECPv5.3.2.1//NONSGML v1.0//EN
CALSCALE:GREGORIAN
METHOD:PUBLISH
X-WR-CALNAME:Traditional Learning Academy (TLA) Online
X-ORIGINAL-URL:https://schoolathome.ca
X-WR-CALDESC:Events for Traditional Learning Academy (TLA) Online
BEGIN:VTIMEZONE
TZID:America/Los_Angeles
BEGIN:DAYLIGHT
TZOFFSETFROM:-0800
TZOFFSETTO:-0700
TZNAME:PDT
DTSTART:20180311T100000
END:DAYLIGHT
BEGIN:STANDARD
TZOFFSETFROM:-0700
TZOFFSETTO:-0800
TZNAME:PST
DTSTART:20181104T090000
END:STANDARD
END:VTIMEZONE
BEGIN:VEVENT
DTSTART;TZID=America/Los_Angeles:20181119T100000
DTEND;TZID=America/Los_Angeles:20181119T163000
DTSTAMP:20260420T230823
CREATED:20181025T103829Z
LAST-MODIFIED:20181025T103829Z
UID:2406-1542621600-1542645000@schoolathome.ca
SUMMARY:High Ropes course and more at TWU - Cancelled
DESCRIPTION:**UPDATE: CANCELLED AND WILL RESCHEDULE IN FEBRUARY** \nCost: $25\nTime: 10:00 am – 4:30 pm\nLocation: Trinity Western University [7600 Glover Rd\, Langley\, BC V2Y 1Y1] \n10:00-10:15 Arrival at TWU Campus (Mattson Centre)\n10:15-11:15 Campus Tour\n11:15-11:45 Presentation on Academic Success\n11:45-12:15 Lunch and TWU Presentation\n12:30-4:30 High Ropes course \n  \n\n						\n			\n				\n				Share on Facebook\n			\n		\n\n		\n			\n				\n				Tweet\n			\n		\n\n		\n			\n				\n				Follow us\n			\n		\n\n		\n			\n				\n				Share\n			\n		\n\n		\n			\n				\n				Share\n			\n		\n\n		\n			\n				\n				Share\n			\n		\n\n		\n			\n				\n				Share\n			\n		\n\n		\n			\n				\n				Share
URL:https://schoolathome.ca/event/high-ropes-course-and-more-at-twu/
CATEGORIES:Field Trips
END:VEVENT
END:VCALENDAR