BEGIN:VCALENDAR
VERSION:2.0
PRODID:-//Traditional Learning Academy (TLA) Online - ECPv5.3.2.1//NONSGML v1.0//EN
CALSCALE:GREGORIAN
METHOD:PUBLISH
X-WR-CALNAME:Traditional Learning Academy (TLA) Online
X-ORIGINAL-URL:https://schoolathome.ca
X-WR-CALDESC:Events for Traditional Learning Academy (TLA) Online
BEGIN:VTIMEZONE
TZID:America/Vancouver
BEGIN:DAYLIGHT
TZOFFSETFROM:-0800
TZOFFSETTO:-0700
TZNAME:PDT
DTSTART:20250309T100000
END:DAYLIGHT
BEGIN:STANDARD
TZOFFSETFROM:-0700
TZOFFSETTO:-0800
TZNAME:PST
DTSTART:20251102T090000
END:STANDARD
END:VTIMEZONE
BEGIN:VEVENT
DTSTART;TZID=America/Vancouver:20250507T100000
DTEND;TZID=America/Vancouver:20250507T113000
DTSTAMP:20260419T080452
CREATED:20250331T192624Z
LAST-MODIFIED:20250414T163604Z
UID:8870-1746612000-1746617400@schoolathome.ca
SUMMARY:Gulf of Georgia Cannery Tour
DESCRIPTION:Grade K-12 TLA students are invited to participate (non-TLA students are welcome\, too)\, but the program is geared toward K-7. There are many lovely sites in the area to capture the interest of all ages. \nThe Gulf of Georgia Cannery Society honours the importance of Canada’s West Coast Fishing history by sharing stories of the fishing industry and fishing communities through exhibitions\, collections\, programs and events. \n\nMore info from the Cannery website \n\nSign-up deadline: Monday\, April 7\n\n						\n			\n				\n				Share on Facebook\n			\n		\n\n		\n			\n				\n				Tweet\n			\n		\n\n		\n			\n				\n				Follow us\n			\n		\n\n		\n			\n				\n				Share\n			\n		\n\n		\n			\n				\n				Share\n			\n		\n\n		\n			\n				\n				Share\n			\n		\n\n		\n			\n				\n				Share\n			\n		\n\n		\n			\n				\n				Share
URL:https://schoolathome.ca/event/gulf-of-georgia-cannery-tour/
LOCATION:Gulf of Georgia Cannery\, 12138 Fourth Ave\, Richmond\, BC V7E 3J1\, Canada
CATEGORIES:Field Trips
ORGANIZER;CN="Annette%20Flitton":MAILTO:aflitton@schoolathome.ca
END:VEVENT
END:VCALENDAR