BEGIN:VCALENDAR
VERSION:2.0
PRODID:-//Traditional Learning Academy (TLA) Online - ECPv5.3.2.1//NONSGML v1.0//EN
CALSCALE:GREGORIAN
METHOD:PUBLISH
X-WR-CALNAME:Traditional Learning Academy (TLA) Online
X-ORIGINAL-URL:https://schoolathome.ca
X-WR-CALDESC:Events for Traditional Learning Academy (TLA) Online
BEGIN:VTIMEZONE
TZID:America/Vancouver
BEGIN:DAYLIGHT
TZOFFSETFROM:-0800
TZOFFSETTO:-0700
TZNAME:PDT
DTSTART:20230312T100000
END:DAYLIGHT
BEGIN:STANDARD
TZOFFSETFROM:-0700
TZOFFSETTO:-0800
TZNAME:PST
DTSTART:20231105T090000
END:STANDARD
END:VTIMEZONE
BEGIN:VEVENT
DTSTART;TZID=America/Vancouver:20231212T140000
DTEND;TZID=America/Vancouver:20231212T163000
DTSTAMP:20260419T153609
CREATED:20231120T163252Z
LAST-MODIFIED:20231120T163252Z
UID:7940-1702389600-1702398600@schoolathome.ca
SUMMARY:Grade K-7 Christmas Party
DESCRIPTION:Aimed at students and families aged 12 and under\, our annual K-7 Christmas skating party will be held December 12 from 2:00 to 4:30 with skating at Cloverdale arena from 2:15 to 3:15\, and hot chocolate and caroling at Hawthorne from 3:30 to 4:15. Goodie Bags will be available for all children registered to attend using this form before December 5\, 2023. Parents\, please note helmets should be worn by all students and helmet and skate rentals will be available at the arena (family costs will be put onto student’s budgets – please note your family’s needs on the sign-up form). \n\n						\n			\n				\n				Share on Facebook\n			\n		\n\n		\n			\n				\n				Tweet\n			\n		\n\n		\n			\n				\n				Follow us\n			\n		\n\n		\n			\n				\n				Share\n			\n		\n\n		\n			\n				\n				Share\n			\n		\n\n		\n			\n				\n				Share\n			\n		\n\n		\n			\n				\n				Share\n			\n		\n\n		\n			\n				\n				Share
URL:https://schoolathome.ca/event/grade-k-7-christmas-party/
CATEGORIES:Grades K-9
ORGANIZER;CN="Steve%20Borley":MAILTO:sborley@schoolathome.ca
END:VEVENT
END:VCALENDAR