BEGIN:VCALENDAR
VERSION:2.0
PRODID:-//Traditional Learning Academy (TLA) Online - ECPv5.3.2.1//NONSGML v1.0//EN
CALSCALE:GREGORIAN
METHOD:PUBLISH
X-WR-CALNAME:Traditional Learning Academy (TLA) Online
X-ORIGINAL-URL:https://schoolathome.ca
X-WR-CALDESC:Events for Traditional Learning Academy (TLA) Online
BEGIN:VTIMEZONE
TZID:America/Vancouver
BEGIN:DAYLIGHT
TZOFFSETFROM:-0800
TZOFFSETTO:-0700
TZNAME:PDT
DTSTART:20240310T100000
END:DAYLIGHT
BEGIN:STANDARD
TZOFFSETFROM:-0700
TZOFFSETTO:-0800
TZNAME:PST
DTSTART:20241103T090000
END:STANDARD
END:VTIMEZONE
BEGIN:VEVENT
DTSTART;TZID=America/Vancouver:20241210T180000
DTEND;TZID=America/Vancouver:20241210T213000
DTSTAMP:20260419T060211
CREATED:20241104T224254Z
LAST-MODIFIED:20241118T213508Z
UID:8688-1733853600-1733866200@schoolathome.ca
SUMMARY:Grade 8-12 Student Christmas Party
DESCRIPTION:Tuesday\, December 10th\, 6pm to 9:30pm \nDoors open at 6pm\, party starts at 6:30pm.\n \nLocation: 17465 60 Ave\, Surrey\, BC (TLA Gym)\n\nAll TLA Students from grade 8 to 12 are welcome for an evening of fun\, pizza\, music\, dancing\, and more! Join the us to make this Christmas a memorable one with your classmates and friends.\n\nDress code: Semi-formal\n\nCost: $20 per person. Family discount: $15 each for you and your siblings who are coming. Let us know in the “extra notes” section of this form. \n \n(Bring cash and pay at the door – this covers food and rental of the building)\n\n						\n			\n				\n				Share on Facebook\n			\n		\n\n		\n			\n				\n				Tweet\n			\n		\n\n		\n			\n				\n				Follow us\n			\n		\n\n		\n			\n				\n				Share\n			\n		\n\n		\n			\n				\n				Share\n			\n		\n\n		\n			\n				\n				Share\n			\n		\n\n		\n			\n				\n				Share\n			\n		\n\n		\n			\n				\n				Share
URL:https://schoolathome.ca/event/grade-8-12-student-christmas-party/
LOCATION:TLA 60th\, 17465 60 Ave\, Surrey\, BC\, Canada
CATEGORIES:Grades K-9,Grades 10-12
ORGANIZER;CN="Gabe%20Linder":MAILTO:glinder@schoolathome.ca
END:VEVENT
END:VCALENDAR