BEGIN:VCALENDAR
VERSION:2.0
PRODID:-//Traditional Learning Academy (TLA) Online - ECPv5.3.2.1//NONSGML v1.0//EN
CALSCALE:GREGORIAN
METHOD:PUBLISH
X-WR-CALNAME:Traditional Learning Academy (TLA) Online
X-ORIGINAL-URL:https://schoolathome.ca
X-WR-CALDESC:Events for Traditional Learning Academy (TLA) Online
BEGIN:VTIMEZONE
TZID:America/Vancouver
BEGIN:DAYLIGHT
TZOFFSETFROM:-0800
TZOFFSETTO:-0700
TZNAME:PDT
DTSTART:20190310T100000
END:DAYLIGHT
BEGIN:STANDARD
TZOFFSETFROM:-0700
TZOFFSETTO:-0800
TZNAME:PST
DTSTART:20191103T090000
END:STANDARD
END:VTIMEZONE
BEGIN:VEVENT
DTSTART;TZID=America/Vancouver:20190429T083000
DTEND;TZID=America/Vancouver:20190429T130000
DTSTAMP:20260421T062501
CREATED:20190418T161023Z
LAST-MODIFIED:20190418T161035Z
UID:3232-1556526600-1556542800@schoolathome.ca
SUMMARY:Golden Ears loop hike
DESCRIPTION:Open to all TLA and non-TLA families. This is a 10.5 km moderate hike\, please be prepared. We will hike counter clockwise. \nWhere to meet: Tim Hortons on 22987 Dewdney Trunk Road in Maple Ridge at 8:30 and go to the park from there.\nWhen: 8:30 AM\nWhat to bring: lunch\, good hiking shoes/boots\, rain gear\, hat\, walking sticks\, camera. \nContact person: PJ Reimer pjreimer@schoolathome.ca\, cellphone number is 250-571-8929. PJ will have a first aid kit along and can take a few passengers if needed. \nClick here to fill out the required permission form. \n\n						\n			\n				\n				Share on Facebook\n			\n		\n\n		\n			\n				\n				Tweet\n			\n		\n\n		\n			\n				\n				Follow us\n			\n		\n\n		\n			\n				\n				Share\n			\n		\n\n		\n			\n				\n				Share\n			\n		\n\n		\n			\n				\n				Share\n			\n		\n\n		\n			\n				\n				Share\n			\n		\n\n		\n			\n				\n				Share
URL:https://schoolathome.ca/event/golden-ears-loop-hike/
CATEGORIES:Field Trips
ATTACH;FMTTYPE=image/jpeg:https://schoolathome.ca/wp-content/uploads/2019/04/golden-ears-maple-ridge-bc-mountain-hike.jpg
END:VEVENT
END:VCALENDAR