BEGIN:VCALENDAR
VERSION:2.0
PRODID:-//Traditional Learning Academy (TLA) Online - ECPv5.3.2.1//NONSGML v1.0//EN
CALSCALE:GREGORIAN
METHOD:PUBLISH
X-WR-CALNAME:Traditional Learning Academy (TLA) Online
X-ORIGINAL-URL:https://schoolathome.ca
X-WR-CALDESC:Events for Traditional Learning Academy (TLA) Online
BEGIN:VTIMEZONE
TZID:America/Vancouver
BEGIN:DAYLIGHT
TZOFFSETFROM:-0800
TZOFFSETTO:-0700
TZNAME:PDT
DTSTART:20240310T100000
END:DAYLIGHT
BEGIN:STANDARD
TZOFFSETFROM:-0700
TZOFFSETTO:-0800
TZNAME:PST
DTSTART:20241103T090000
END:STANDARD
END:VTIMEZONE
BEGIN:VEVENT
DTSTART;TZID=America/Vancouver:20241209T093000
DTEND;TZID=America/Vancouver:20241209T140000
DTSTAMP:20260419T055831
CREATED:20241104T221908Z
LAST-MODIFIED:20241104T224129Z
UID:8684-1733736600-1733752800@schoolathome.ca
SUMMARY:Geneskool at Capilano University
DESCRIPTION:Give your son/daughter the chance to do some real-world\, hands-on learning ​while exploring genetics! \nImmerse your son/daughter in the thrilling world of forensic science with our CSI Workshops\, where high school students engage in interactive\, hands-on activities that simulate real-life forensic investigations. This workshop offers a unique opportunity to analyze evidence\, understand DNA profiling\, and tackle a fictitious murder mystery CSI-style. \nThese engaging sessions are designed to spark curiosity and enthusiasm for science while aligning with BC high school curriculum standards. \nMONDAY\, December 9\, 2024\, from 9:30 am – 2:00pm \n\nMeeting at Capilano University (2055 Purcell Way\, North Vancouver\, BC)\nGrade 9\, 10\, 11\, and 12 students are invited to participate (non-TLA students are welcome\, too)\n\n(Maximum number of students is 20.) \n\nPlease Dress for the weather!  (We will need to walk to the FIR building where the workshop is.)\n\nPlease bring a bag lunch and water. \nWhere:  2055 Purcell Way\, North Vancouver\, BC\nCost: $5 per student\nContact Person/Information: Joyce Froese\,  jfroese@schoolathome.ca\, 1-800-745-1320 ext 365 \nSign-up deadline: Monday\, December 2 \n\n\n						\n			\n				\n				Share on Facebook\n			\n		\n\n		\n			\n				\n				Tweet\n			\n		\n\n		\n			\n				\n				Follow us\n			\n		\n\n		\n			\n				\n				Share\n			\n		\n\n		\n			\n				\n				Share\n			\n		\n\n		\n			\n				\n				Share\n			\n		\n\n		\n			\n				\n				Share\n			\n		\n\n		\n			\n				\n				Share
URL:https://schoolathome.ca/event/geneskool-at-capilano-university/
LOCATION:2055 Purcell Way\, North Vancouver\, BC
CATEGORIES:Grades 10-12,Field Trips
ORGANIZER;CN="Joye%20Froese":MAILTO:jfroese@schoolathome.ca
END:VEVENT
END:VCALENDAR