BEGIN:VCALENDAR
VERSION:2.0
PRODID:-//Traditional Learning Academy (TLA) Online - ECPv5.3.2.1//NONSGML v1.0//EN
CALSCALE:GREGORIAN
METHOD:PUBLISH
X-WR-CALNAME:Traditional Learning Academy (TLA) Online
X-ORIGINAL-URL:https://schoolathome.ca
X-WR-CALDESC:Events for Traditional Learning Academy (TLA) Online
BEGIN:VTIMEZONE
TZID:America/Vancouver
BEGIN:DAYLIGHT
TZOFFSETFROM:-0800
TZOFFSETTO:-0700
TZNAME:PDT
DTSTART:20260308T100000
END:DAYLIGHT
BEGIN:STANDARD
TZOFFSETFROM:-0700
TZOFFSETTO:-0800
TZNAME:PST
DTSTART:20261101T090000
END:STANDARD
END:VTIMEZONE
BEGIN:VEVENT
DTSTART;VALUE=DATE:20260423
DTEND;VALUE=DATE:20260426
DTSTAMP:20260420T021354
CREATED:20260401T203601Z
LAST-MODIFIED:20260409T223113Z
UID:9794-1776902400-1777161599@schoolathome.ca
SUMMARY:Disney Beauty and the Beast
DESCRIPTION:Dawson Creek TLA Homeschool Drama \nGeneral admission: $20.00 \nYouth under 12: $15.00 \nShow times \n7:00pm Nightly \n2:00 pm Saturday Matinee \n\n						\n			\n				\n				Share on Facebook\n			\n		\n\n		\n			\n				\n				Tweet\n			\n		\n\n		\n			\n				\n				Follow us\n			\n		\n\n		\n			\n				\n				Share\n			\n		\n\n		\n			\n				\n				Share\n			\n		\n\n		\n			\n				\n				Share\n			\n		\n\n		\n			\n				\n				Share\n			\n		\n\n		\n			\n				\n				Share
URL:https://schoolathome.ca/event/disney-beaty-and-the-beast/
LOCATION:Kiwanis Performing Arts Centre\, 10401 10 St\,\, Dawson Creek\, BC\, V1G 3T8
ORGANIZER;CN="Cara%20Funk":MAILTO:cfunk@schoolathome.ca
END:VEVENT
END:VCALENDAR