BEGIN:VCALENDAR
VERSION:2.0
PRODID:-//Traditional Learning Academy (TLA) Online - ECPv5.3.2.1//NONSGML v1.0//EN
CALSCALE:GREGORIAN
METHOD:PUBLISH
X-WR-CALNAME:Traditional Learning Academy (TLA) Online
X-ORIGINAL-URL:https://schoolathome.ca
X-WR-CALDESC:Events for Traditional Learning Academy (TLA) Online
BEGIN:VTIMEZONE
TZID:America/Los_Angeles
BEGIN:DAYLIGHT
TZOFFSETFROM:-0800
TZOFFSETTO:-0700
TZNAME:PDT
DTSTART:20180311T100000
END:DAYLIGHT
BEGIN:STANDARD
TZOFFSETFROM:-0700
TZOFFSETTO:-0800
TZNAME:PST
DTSTART:20181104T090000
END:STANDARD
END:VTIMEZONE
BEGIN:VEVENT
DTSTART;TZID=America/Los_Angeles:20181025T093000
DTEND;TZID=America/Los_Angeles:20181025T110000
DTSTAMP:20260420T212623
CREATED:20180918T121130Z
LAST-MODIFIED:20180918T121130Z
UID:2328-1540459800-1540465200@schoolathome.ca
SUMMARY:Chilliwack Museum (Gr.4-6 TLA Students)
DESCRIPTION:“Full Steam Ahead” at Chilliwack Museum \nGrade 4-6 TLA students are invited to participate (non-TLA students are welcome\, too) \n9:20am arrive and gather in front of museum \nProgram Summary:\nWhen thirty-thousand gold seekers travelled up the Fraser River in 1858\, life in British Columbia was rapidly changing. Following the diary of Charles Evans as he describes his journey to BC in 1862\, students will investigate occupations undertaken during the gold rush\, interpret artefacts and taste food popular at the time. \nStudents will be under the supervision of TLA teacher\, Jaime Rene\, and museum staff during the program.\nParents are asked to be back at the museum at 10:45 in order to pick up their child(ren). \nWhere:  45820 Spadina Ave\, Chilliwack\nCost: $6 per student (9 student minimum in order for field trip to run)\nContact Person/Information: Jaime Rene\, jrene@schoolathome.ca\, 1-800-745-1320 ext 145 \nSign-up deadline: Monday\, October 22nd \nPlease give minimum 48 hours notice if you will not attend\, or we will need to invoice or deduct your budget for the amount required. \nSign up here. \n\n						\n			\n				\n				Share on Facebook\n			\n		\n\n		\n			\n				\n				Tweet\n			\n		\n\n		\n			\n				\n				Follow us\n			\n		\n\n		\n			\n				\n				Share\n			\n		\n\n		\n			\n				\n				Share\n			\n		\n\n		\n			\n				\n				Share\n			\n		\n\n		\n			\n				\n				Share\n			\n		\n\n		\n			\n				\n				Share
URL:https://schoolathome.ca/event/chilliwack-museum-art-in-words-class/
CATEGORIES:Field Trips
END:VEVENT
END:VCALENDAR