BEGIN:VCALENDAR
VERSION:2.0
PRODID:-//Traditional Learning Academy (TLA) Online - ECPv5.3.2.1//NONSGML v1.0//EN
CALSCALE:GREGORIAN
METHOD:PUBLISH
X-WR-CALNAME:Traditional Learning Academy (TLA) Online
X-ORIGINAL-URL:https://schoolathome.ca
X-WR-CALDESC:Events for Traditional Learning Academy (TLA) Online
BEGIN:VTIMEZONE
TZID:America/Vancouver
BEGIN:DAYLIGHT
TZOFFSETFROM:-0800
TZOFFSETTO:-0700
TZNAME:PDT
DTSTART:20190310T100000
END:DAYLIGHT
BEGIN:STANDARD
TZOFFSETFROM:-0700
TZOFFSETTO:-0800
TZNAME:PST
DTSTART:20191103T090000
END:STANDARD
END:VTIMEZONE
BEGIN:VEVENT
DTSTART;VALUE=DATE:20190909
DTEND;VALUE=DATE:20190910
DTSTAMP:20260420T034324
CREATED:20190719T121948Z
LAST-MODIFIED:20190719T122015Z
UID:3584-1567987200-1568073599@schoolathome.ca
SUMMARY:K-12 Blended classes begin
DESCRIPTION:See schedule of Blended programs and classes here. \n\n						\n			\n				\n				Share on Facebook\n			\n		\n\n		\n			\n				\n				Tweet\n			\n		\n\n		\n			\n				\n				Follow us\n			\n		\n\n		\n			\n				\n				Share\n			\n		\n\n		\n			\n				\n				Share\n			\n		\n\n		\n			\n				\n				Share\n			\n		\n\n		\n			\n				\n				Share\n			\n		\n\n		\n			\n				\n				Share
URL:https://schoolathome.ca/event/blended-classes-begin/
CATEGORIES:Blended
ATTACH;FMTTYPE=image/jpeg:https://schoolathome.ca/wp-content/uploads/2019/04/child-girl-homework-girl-flipped-week.jpg
END:VEVENT
END:VCALENDAR