BEGIN:VCALENDAR
VERSION:2.0
PRODID:-//Traditional Learning Academy (TLA) Online - ECPv5.3.2.1//NONSGML v1.0//EN
CALSCALE:GREGORIAN
METHOD:PUBLISH
X-WR-CALNAME:Traditional Learning Academy (TLA) Online
X-ORIGINAL-URL:https://schoolathome.ca
X-WR-CALDESC:Events for Traditional Learning Academy (TLA) Online
BEGIN:VTIMEZONE
TZID:America/Vancouver
BEGIN:DAYLIGHT
TZOFFSETFROM:-0800
TZOFFSETTO:-0700
TZNAME:PDT
DTSTART:20210314T100000
END:DAYLIGHT
BEGIN:STANDARD
TZOFFSETFROM:-0700
TZOFFSETTO:-0800
TZNAME:PST
DTSTART:20211107T090000
END:STANDARD
END:VTIMEZONE
BEGIN:VEVENT
DTSTART;TZID=America/Vancouver:20211015T090000
DTEND;TZID=America/Vancouver:20211015T103000
DTSTAMP:20260425T175110
CREATED:20210707T171755Z
LAST-MODIFIED:20210707T175847Z
UID:5945-1634288400-1634293800@schoolathome.ca
SUMMARY:Biology Series: Meiosis (Online) - Grade 7-9
DESCRIPTION:Friday October 15 // 9am – 10:30am OR 11am – 12:30pm \nhttps://docs.google.com/forms/d/18gpjj1ZARxN8VM4baSKMsamDfvPVmr9Gn8g6DHKIY2w/edit \n\n						\n			\n				\n				Share on Facebook\n			\n		\n\n		\n			\n				\n				Tweet\n			\n		\n\n		\n			\n				\n				Follow us\n			\n		\n\n		\n			\n				\n				Share\n			\n		\n\n		\n			\n				\n				Share\n			\n		\n\n		\n			\n				\n				Share\n			\n		\n\n		\n			\n				\n				Share\n			\n		\n\n		\n			\n				\n				Share
URL:https://schoolathome.ca/event/biology-series-meiosis-online-grade-7-9/
CATEGORIES:Community Class
END:VEVENT
END:VCALENDAR