BEGIN:VCALENDAR
VERSION:2.0
PRODID:-//Traditional Learning Academy (TLA) Online - ECPv5.3.2.1//NONSGML v1.0//EN
CALSCALE:GREGORIAN
METHOD:PUBLISH
X-WR-CALNAME:Traditional Learning Academy (TLA) Online
X-ORIGINAL-URL:https://schoolathome.ca
X-WR-CALDESC:Events for Traditional Learning Academy (TLA) Online
BEGIN:VTIMEZONE
TZID:America/Vancouver
BEGIN:DAYLIGHT
TZOFFSETFROM:-0800
TZOFFSETTO:-0700
TZNAME:PDT
DTSTART:20260308T100000
END:DAYLIGHT
BEGIN:STANDARD
TZOFFSETFROM:-0700
TZOFFSETTO:-0800
TZNAME:PST
DTSTART:20261101T090000
END:STANDARD
END:VTIMEZONE
BEGIN:VEVENT
DTSTART;TZID=America/Vancouver:20260510T140000
DTEND;TZID=America/Vancouver:20260510T160000
DTSTAMP:20260419T080323
CREATED:20251027T184502Z
LAST-MODIFIED:20251027T184502Z
UID:9454-1778421600-1778428800@schoolathome.ca
SUMMARY:Beethoven's Fifth
DESCRIPTION:When: SUNDAY\, May 10 @ 2:00pm\n\n\n\nWhere: Vernon & District Performing Arts Centre\n\n    \nAddress: \n3800 33 St\, Vernon\, BC V1T 5T6\n(250) 549-7469\n\n\n\nWho: ALL STUDENTS Gr. K-12; TLA & non-TLA Homeschooling students welcome\nCost:\n\nYouth $22.50\nAdult: $43.25 \nAll above prices are in CAD and include GST.\n\nIn an effort to ensure we secure seating\, we request that all registration forms are submitted by Monday\, November 3rd. \n\nAbout the Show: \n\nCheck out the link below!\n\nBeethoven Symphony\n\nExperience the symphony that changed music forever. Shocking at the time of its premiere with its emotional intensity\, today Beethoven’s 5th is one of the world’s most recognizable works of art. After more than a decade\, the OSO returns to this iconic masterpiece to close the season with a monument of musical expression. This concert also features the Okanagan Symphony Chorus in Ola Gjeilo’s Sunrise Mass\, a profound and expressive journey\, full of soaring melodies and walls of sonic power. \n\n**Please complete one registration form PER student. \n\n\nContact Person/Information: Pamela Smid\,  psmid@schoolathome.ca\n\n\n						\n			\n				\n				Share on Facebook\n			\n		\n\n		\n			\n				\n				Tweet\n			\n		\n\n		\n			\n				\n				Follow us\n			\n		\n\n		\n			\n				\n				Share\n			\n		\n\n		\n			\n				\n				Share\n			\n		\n\n		\n			\n				\n				Share\n			\n		\n\n		\n			\n				\n				Share\n			\n		\n\n		\n			\n				\n				Share
URL:https://schoolathome.ca/event/beethovens-fifth/
LOCATION:Vernon & District Performing Arts Centre\, 3800 33 St\, Vernon\, BC\, V1T 5T6
CATEGORIES:School-wide,Field Trips
ORGANIZER;CN="Pamela%20Smid":MAILTO:psmid@schoolathome.ca
END:VEVENT
END:VCALENDAR