BEGIN:VCALENDAR
VERSION:2.0
PRODID:-//Traditional Learning Academy (TLA) Online - ECPv5.3.2.1//NONSGML v1.0//EN
CALSCALE:GREGORIAN
METHOD:PUBLISH
X-WR-CALNAME:Traditional Learning Academy (TLA) Online
X-ORIGINAL-URL:https://schoolathome.ca
X-WR-CALDESC:Events for Traditional Learning Academy (TLA) Online
BEGIN:VTIMEZONE
TZID:America/Vancouver
BEGIN:DAYLIGHT
TZOFFSETFROM:-0800
TZOFFSETTO:-0700
TZNAME:PDT
DTSTART:20250309T100000
END:DAYLIGHT
BEGIN:STANDARD
TZOFFSETFROM:-0700
TZOFFSETTO:-0800
TZNAME:PST
DTSTART:20251102T090000
END:STANDARD
END:VTIMEZONE
BEGIN:VEVENT
DTSTART;TZID=America/Vancouver:20250508T100000
DTEND;TZID=America/Vancouver:20250508T170000
DTSTAMP:20260419T062854
CREATED:20250407T175639Z
LAST-MODIFIED:20250407T182328Z
UID:8914-1746698400-1746723600@schoolathome.ca
SUMMARY:BC Wildlife Park Kamloops Field Trip
DESCRIPTION:THURSDAY\, May 8th\, 2025 at BC Wildlife Park\, Kamloops. \nThe BC Wildlife Park is an accredited\, non-profit organization and is home to nearly 200 animals and 65 different species that are native to British Columbia. Many of the animals at the Park have been rescued or were orphaned and are unable to survive on their own in the wild. To learn more about the important work they do\, please visit the website.\n\nThis field trip is built around the “Encountering Wildlife” educational program. From 10 – 11am\, students will meet three exciting animals up close and learn about how they survive in their habitats.  The rest of the day families are free to explore the rest of the many animals in the park until closing at 5pm.\n\n*Space is limited for the Encountering Wildlife program. Students and supervising adults only.\n\nGrade K-12 TLA students are invited to participate (non-TLA students are welcome\, too)\, but the Encountering Wildlife program is geared toward K-7 and has a cap of 25 students.\n\n9:30 – 9:40am Arrive and gather at park information center entrance\n10:00 – 11am Encountering Wildlife class. *Space is limited\, so this will be students & supervising adults only. No younger siblings\, unfortunately.\n\nWhere: 9077 Dallas Dr. Kamloops\, BC\nCost:  Student cost – $13.50\nAdult cost: $20\nPlease check website for rates for younger children if interested.\n\nLimit of 25 students for this trip.\n\n\nContact Person/Information: Jessica Ens  Email: jens@schoolathome.ca \nSign-up deadline: Monday\, May 5th \n\n\n\n						\n			\n				\n				Share on Facebook\n			\n		\n\n		\n			\n				\n				Tweet\n			\n		\n\n		\n			\n				\n				Follow us\n			\n		\n\n		\n			\n				\n				Share\n			\n		\n\n		\n			\n				\n				Share\n			\n		\n\n		\n			\n				\n				Share\n			\n		\n\n		\n			\n				\n				Share\n			\n		\n\n		\n			\n				\n				Share
URL:https://schoolathome.ca/event/bc-wildlife-park-kamloops-field-trip/
LOCATION:BC Wildlife Park\, 9077 Dallas Dr.\, Kamloops\, BC\, Canada
CATEGORIES:Field Trips
ORGANIZER;CN="Jessica%20Ens":MAILTO:jens@schoolathome.ca
END:VEVENT
END:VCALENDAR