BEGIN:VCALENDAR
VERSION:2.0
PRODID:-//Traditional Learning Academy (TLA) Online - ECPv5.3.2.1//NONSGML v1.0//EN
CALSCALE:GREGORIAN
METHOD:PUBLISH
X-WR-CALNAME:Traditional Learning Academy (TLA) Online
X-ORIGINAL-URL:https://schoolathome.ca
X-WR-CALDESC:Events for Traditional Learning Academy (TLA) Online
BEGIN:VTIMEZONE
TZID:America/Vancouver
BEGIN:DAYLIGHT
TZOFFSETFROM:-0800
TZOFFSETTO:-0700
TZNAME:PDT
DTSTART:20230312T100000
END:DAYLIGHT
BEGIN:STANDARD
TZOFFSETFROM:-0700
TZOFFSETTO:-0800
TZNAME:PST
DTSTART:20231105T090000
END:STANDARD
END:VTIMEZONE
BEGIN:VEVENT
DTSTART;VALUE=DATE:20230616
DTEND;VALUE=DATE:20230617
DTSTAMP:20260420T194457
CREATED:20230529T180630Z
LAST-MODIFIED:20230529T180739Z
UID:7613-1686873600-1686959999@schoolathome.ca
SUMMARY:All Resources Due Back!
DESCRIPTION:All resources for this school year are due back on June 16\, 2023 \nInstructions on how to navigate the new TLA Library and find out what you have checked out can be found by going through this information here. \nQuestions?  Email library@schoolathome.ca \n\n						\n			\n				\n				Share on Facebook\n			\n		\n\n		\n			\n				\n				Tweet\n			\n		\n\n		\n			\n				\n				Follow us\n			\n		\n\n		\n			\n				\n				Share\n			\n		\n\n		\n			\n				\n				Share\n			\n		\n\n		\n			\n				\n				Share\n			\n		\n\n		\n			\n				\n				Share\n			\n		\n\n		\n			\n				\n				Share
URL:https://schoolathome.ca/event/all-resources-due-back/
CATEGORIES:School-wide
END:VEVENT
END:VCALENDAR