BEGIN:VCALENDAR
VERSION:2.0
PRODID:-//Traditional Learning Academy (TLA) Online - ECPv5.3.2.1//NONSGML v1.0//EN
CALSCALE:GREGORIAN
METHOD:PUBLISH
X-WR-CALNAME:Traditional Learning Academy (TLA) Online
X-ORIGINAL-URL:https://schoolathome.ca
X-WR-CALDESC:Events for Traditional Learning Academy (TLA) Online
BEGIN:VTIMEZONE
TZID:America/Vancouver
BEGIN:DAYLIGHT
TZOFFSETFROM:-0800
TZOFFSETTO:-0700
TZNAME:PDT
DTSTART:20240310T100000
END:DAYLIGHT
BEGIN:STANDARD
TZOFFSETFROM:-0700
TZOFFSETTO:-0800
TZNAME:PST
DTSTART:20241103T090000
END:STANDARD
END:VTIMEZONE
BEGIN:VEVENT
DTSTART;TZID=America/Vancouver:20240926T190000
DTEND;TZID=America/Vancouver:20240926T210000
DTSTAMP:20260419T080137
CREATED:20240909T181648Z
LAST-MODIFIED:20240909T181648Z
UID:8536-1727377200-1727384400@schoolathome.ca
SUMMARY:Admin Meet & Greet - Fort St. James/Vanderhoof
DESCRIPTION:Several of TLA’s administrative and teaching staff will be hosting Meet and Greet sessions in Prince George\, The Fort St. James/Vanderhoof area\, and Dawson Creek on September 26 and 27th. We expect to combine these meetings with light refreshments and a video presentation (either Screenagers 2 or The Social Dilemma)\, and time to discuss. We welcome all registered and enrolled TLA families as well as those interested in the school. Children are welcome\, and will be provided with an alternate activity during the video presentation. \nFort St James/Vanderhoof at 7pm\, September 26\, (Location to be determined). \n\n						\n			\n				\n				Share on Facebook\n			\n		\n\n		\n			\n				\n				Tweet\n			\n		\n\n		\n			\n				\n				Follow us\n			\n		\n\n		\n			\n				\n				Share\n			\n		\n\n		\n			\n				\n				Share\n			\n		\n\n		\n			\n				\n				Share\n			\n		\n\n		\n			\n				\n				Share\n			\n		\n\n		\n			\n				\n				Share
URL:https://schoolathome.ca/event/admin-meet-greet-fort-st-james-vanderhoof/
LOCATION:Fort St. James/Vanderhoof
CATEGORIES:School-wide
ORGANIZER;CN="Steve%20Borley":MAILTO:sborley@schoolathome.ca
END:VEVENT
END:VCALENDAR