BEGIN:VCALENDAR
VERSION:2.0
PRODID:-//Traditional Learning Academy (TLA) Online - ECPv5.3.2.1//NONSGML v1.0//EN
CALSCALE:GREGORIAN
METHOD:PUBLISH
X-WR-CALNAME:Traditional Learning Academy (TLA) Online
X-ORIGINAL-URL:https://schoolathome.ca
X-WR-CALDESC:Events for Traditional Learning Academy (TLA) Online
BEGIN:VTIMEZONE
TZID:America/Vancouver
BEGIN:DAYLIGHT
TZOFFSETFROM:-0800
TZOFFSETTO:-0700
TZNAME:PDT
DTSTART:20250309T100000
END:DAYLIGHT
BEGIN:STANDARD
TZOFFSETFROM:-0700
TZOFFSETTO:-0800
TZNAME:PST
DTSTART:20251102T090000
END:STANDARD
END:VTIMEZONE
BEGIN:VEVENT
DTSTART;TZID=America/Vancouver:20251213T180000
DTEND;TZID=America/Vancouver:20251213T200000
DTSTAMP:20260421T012421
CREATED:20251205T233116Z
LAST-MODIFIED:20251208T164747Z
UID:9537-1765648800-1765656000@schoolathome.ca
SUMMARY:A Grumpy Christmas
DESCRIPTION:Don’t Miss TLA’s “A Grumpy Christmas” – Free Family Fun on Dec 13!\nGet ready for some holiday laughs! \nTLA’s Blended Drama students are bringing “A Grumpy Christmas – A Musical for the Whole Family” to life in fun Readers’ Theatre performances. \nDate: Saturday\, December 13\nTime: 6:00 PM\nAdmission: FREE \nGrade 10-12 @ 6pm \nGrade 7-9 @ 7PM \n\n						\n			\n				\n				Share on Facebook\n			\n		\n\n		\n			\n				\n				Tweet\n			\n		\n\n		\n			\n				\n				Follow us\n			\n		\n\n		\n			\n				\n				Share\n			\n		\n\n		\n			\n				\n				Share\n			\n		\n\n		\n			\n				\n				Share\n			\n		\n\n		\n			\n				\n				Share\n			\n		\n\n		\n			\n				\n				Share
URL:https://schoolathome.ca/event/a-grumpy-christmas/
LOCATION:Clova Theatre\, 5732 176 St\, Surrey\, BC\, V3S 4C8\, Canada
CATEGORIES:School-wide
ORGANIZER;CN="Linda%20McRae":MAILTO:lmcrae@schoolathome.ca
END:VEVENT
END:VCALENDAR